BEGIN:VCALENDAR
VERSION:2.0
PRODID:-//Nepal Coffee Academy (NCA) - ECPv6.15.20//NONSGML v1.0//EN
CALSCALE:GREGORIAN
METHOD:PUBLISH
X-WR-CALNAME:Nepal Coffee Academy (NCA)
X-ORIGINAL-URL:https://nca.coffee
X-WR-CALDESC:Events for Nepal Coffee Academy (NCA)
REFRESH-INTERVAL;VALUE=DURATION:PT1H
X-Robots-Tag:noindex
X-PUBLISHED-TTL:PT1H
BEGIN:VTIMEZONE
TZID:Asia/Katmandu
BEGIN:STANDARD
TZOFFSETFROM:+0545
TZOFFSETTO:+0545
TZNAME:+0545
DTSTART:20250101T000000
END:STANDARD
END:VTIMEZONE
BEGIN:VEVENT
DTSTART;TZID=Asia/Katmandu:20260318T110000
DTEND;TZID=Asia/Katmandu:20260318T160000
DTSTAMP:20260425T034329
CREATED:20260316T134332Z
LAST-MODIFIED:20260316T134333Z
UID:1570-1773831600-1773849600@nca.coffee
SUMMARY:Coffee Farming Masterclass (Additional Session)
DESCRIPTION:Due to overwhelming interest\, Nepal Coffee Academy is opening one additional session of the Coffee Farming Masterclass. \nLearn the fundamentals of coffee farming\, nursery management\, farm planning\, and quality-focused production. \n📅 Mar 18\, 2026 | २०८२ चैत ४ (बुधवार)\n⏰ 11:00 AM – 4:00 PM\n📍 Nepal Coffee Academy\, Koteshwor\, Kathmandu\n💰 Fee: Rs. 4\,000\n📲 Registration via WhatsApp only: +977 9705263333 \n⚠️ Limited seats (only 9 seats left) \n#CoffeeFarming #NepalCoffee #CoffeeTraining #CoffeeFarm #CoffeeEducation #NepalCoffeeAcademy #DrinkNepaliCoffee
URL:https://nca.coffee/event/coffee-farming-masterclass-additional-session/
LOCATION:Nepal Coffee Academy\, Nawa Prabhat Marga\, Kathmandu 44600\, Kathmandu\, Bagmati\, 44600\, Nepal
ATTACH;FMTTYPE=image/png:https://nca.coffee/wp-content/uploads/2026/03/farming-class-at-nca-mar-18.png
ORGANIZER;CN="Nepal Coffee Academy":MAILTO:nationalcoffeeacademy@gmail.com
END:VEVENT
END:VCALENDAR