BEGIN:VCALENDAR
VERSION:2.0
PRODID:-//Nepal Coffee Academy (NCA) - ECPv6.15.20//NONSGML v1.0//EN
CALSCALE:GREGORIAN
METHOD:PUBLISH
X-ORIGINAL-URL:https://nca.coffee
X-WR-CALDESC:Events for Nepal Coffee Academy (NCA)
REFRESH-INTERVAL;VALUE=DURATION:PT1H
X-Robots-Tag:noindex
X-PUBLISHED-TTL:PT1H
BEGIN:VTIMEZONE
TZID:Asia/Katmandu
BEGIN:STANDARD
TZOFFSETFROM:+0545
TZOFFSETTO:+0545
TZNAME:+0545
DTSTART:20230101T000000
END:STANDARD
END:VTIMEZONE
BEGIN:VEVENT
DTSTART;TZID=Asia/Katmandu:20241020T103000
DTEND;TZID=Asia/Katmandu:20241020T170000
DTSTAMP:20260423T073452
CREATED:20241003T043120Z
LAST-MODIFIED:20241003T043120Z
UID:1493-1729420200-1729443600@nca.coffee
SUMMARY:SCA Introduction to Coffee
DESCRIPTION:SCA Introduction to Coffee Course at Nepal Coffee Academy \nThe Introduction to Coffee course is ideal for anyone who is new to specialty coffee. It charts coffee’s journey from its origins in Ethiopia to the major commodity that it is today. This course gives a general overview of the specialty coffee supply chain and explores topics such as history and cultivation\, variables that affect coffee quality\, basics of sensory analysis\, fundamentals of roasting\, factors of coffee freshness\, and principles of brewing. In addition\, learners will discuss the importance of water quality\, cleanliness and maintenance. This interactive course also includes a cupping\, an industry-specific process for evaluating coffee through a sensory experience. There is an online written exam administered upon the completion of the course
URL:https://nca.coffee/event/sca-introduction-to-coffee/
LOCATION:Bagmati
CATEGORIES:SCA Certified Coffee Course
ATTACH;FMTTYPE=image/jpeg:https://nca.coffee/wp-content/uploads/2024/10/CSP-icons-v2-artwork-Introduction-_grey-scaled.jpg
END:VEVENT
BEGIN:VEVENT
DTSTART;TZID=Asia/Katmandu:20241021T103000
DTEND;TZID=Asia/Katmandu:20241021T170000
DTSTAMP:20260423T073452
CREATED:20241003T044622Z
LAST-MODIFIED:20241003T050219Z
UID:1497-1729506600-1729530000@nca.coffee
SUMMARY:SCA Barista Skills - Foundation
DESCRIPTION:SCA Barista Skills – Foundation Course at Nepal Coffee Academy \nBarista Skills teaches the essentials practical skills needed behind the espresso bar such as how to set your grinder\, make espresso\, foam and texture milk for cappuccinos\, and create latte art as well as an exploration of health and safety issues\, customer service protocols\, and basic business practices.
URL:https://nca.coffee/event/sca-barista-skills-foundation/
LOCATION:Nepal Coffee Academy\, Nawa Prabhat Marga\, Kathmandu 44600\, Kathmandu\, Bagmati\, 44600\, Nepal
CATEGORIES:SCA Certified Coffee Course
ATTACH;FMTTYPE=image/png:https://nca.coffee/wp-content/uploads/2024/10/CSP-icons-v2-artwork-barista-_purple.png
ORGANIZER;CN="Nepal Coffee Academy":MAILTO:nationalcoffeeacademy@gmail.com
END:VEVENT
END:VCALENDAR