BEGIN:VCALENDAR
VERSION:2.0
PRODID:-//Nepal Coffee Academy (NCA) - ECPv6.15.20//NONSGML v1.0//EN
CALSCALE:GREGORIAN
METHOD:PUBLISH
X-ORIGINAL-URL:https://nca.coffee
X-WR-CALDESC:Events for Nepal Coffee Academy (NCA)
REFRESH-INTERVAL;VALUE=DURATION:PT1H
X-Robots-Tag:noindex
X-PUBLISHED-TTL:PT1H
BEGIN:VTIMEZONE
TZID:Asia/Katmandu
BEGIN:STANDARD
TZOFFSETFROM:+0545
TZOFFSETTO:+0545
TZNAME:+0545
DTSTART:20230101T000000
END:STANDARD
END:VTIMEZONE
BEGIN:VEVENT
DTSTART;VALUE=DATE:20241113
DTEND;VALUE=DATE:20241116
DTSTAMP:20260423T061635
CREATED:20241003T051846Z
LAST-MODIFIED:20241003T051935Z
UID:1516-1731456000-1731715199@nca.coffee
SUMMARY:SCA Roasting - Intermediate
DESCRIPTION:SCA Roasting – Intermediate in Nepal Coffee Academy \nThe Roasting Intermediate course builds upon the introductory concepts of the Foundation course. It is ideal for someone who has roasting and desires to gain a deeper understanding of the roast profile\, how the profile relates to color\, the relationship between roast profile and sensory expression\, and the impact of development time. Learners will further explore the physical and chemical changes as well as basic thermodynamics and heat transfer that occurs during the roast. Thereafter there will be an introduction to sample roasting and a review of safety and maintenance protocols in the roasting plant. A written exam tests intermediate course knowledge while a practical exam assesses the learner’s ability to roast correctly and remove the coffee at the correct color using a reference\, while accurately completing the roast log form.
URL:https://nca.coffee/event/sca-roasting-intermediate/
LOCATION:Nepal Coffee Academy\, Nawa Prabhat Marga\, Kathmandu 44600\, Kathmandu\, Bagmati\, 44600\, Nepal
CATEGORIES:Roasting Training,SCA Certified Coffee Course
ATTACH;FMTTYPE=image/png:https://nca.coffee/wp-content/uploads/2024/10/CSP-icons-v2-artwork-roasting-_orange.png
ORGANIZER;CN="Nepal Coffee Academy":MAILTO:nationalcoffeeacademy@gmail.com
END:VEVENT
END:VCALENDAR